BEGIN:VCALENDAR
VERSION:2.0
PRODID:-//The Ark - ECPv6.6.4.2//NONSGML v1.0//EN
CALSCALE:GREGORIAN
METHOD:PUBLISH
X-WR-CALNAME:The Ark
X-ORIGINAL-URL:https://theark.qltddev.com
X-WR-CALDESC:Events for The Ark
REFRESH-INTERVAL;VALUE=DURATION:PT1H
X-Robots-Tag:noindex
X-PUBLISHED-TTL:PT1H
BEGIN:VTIMEZONE
TZID:America/New_York
BEGIN:DAYLIGHT
TZOFFSETFROM:-0500
TZOFFSETTO:-0400
TZNAME:EDT
DTSTART:20240310T070000
END:DAYLIGHT
BEGIN:STANDARD
TZOFFSETFROM:-0400
TZOFFSETTO:-0500
TZNAME:EST
DTSTART:20241103T060000
END:STANDARD
END:VTIMEZONE
BEGIN:VEVENT
DTSTART;TZID=America/New_York:20240528T200000
DTEND;TZID=America/New_York:20240528T230000
DTSTAMP:20260424T071317
CREATED:20240215T145026Z
LAST-MODIFIED:20240507T173444Z
UID:10000502-1716926400-1716937200@theark.qltddev.com
SUMMARY:Mouths of Babes
DESCRIPTION:With more than a dozen albums and over a thousand shows between them\, Ty Greenstein and Ingrid Elizabeth of Mouths of Babes are no strangers to the contemporary folk-Americana music scene. For years\, their respective bands Girlyman and Coyote Grace captivated thousands of loyal fans as they crisscrossed the country\, rocked festival main stages\, and toured with the likes of Indigo Girls and Dar Williams. Now they have distilled the very best of the songwriting\, musicianship\, and humor of their previous groups into a power duo that brings more depth and style than ever before. \nThe Ark’s Artist Spotlight Series is made possible with support from Ford Philanthropy. It is presented live\, and also livestreamed on The Ark’s Facebook page.   \nTonight’s show is FREE (nonperishables accepted for Food Gatherers).
URL:https://theark.qltddev.com/event/mouths-of-babes-240528/
LOCATION:The Ark\, 316 S. Main\, Ann Arbor\, MI\, 48104\, United States
CATEGORIES:Artist Spotlight Series,Live and Virtual
ATTACH;FMTTYPE=image/jpeg:https://theark.qltddev.com/wp-content/uploads/2024/02/Mouths-of-Babes2.jpg
END:VEVENT
END:VCALENDAR