BEGIN:VCALENDAR
VERSION:2.0
PRODID:-//The Ark - ECPv6.6.4.2//NONSGML v1.0//EN
CALSCALE:GREGORIAN
METHOD:PUBLISH
X-WR-CALNAME:The Ark
X-ORIGINAL-URL:https://theark.qltddev.com
X-WR-CALDESC:Events for The Ark
REFRESH-INTERVAL;VALUE=DURATION:PT1H
X-Robots-Tag:noindex
X-PUBLISHED-TTL:PT1H
BEGIN:VTIMEZONE
TZID:America/New_York
BEGIN:DAYLIGHT
TZOFFSETFROM:-0500
TZOFFSETTO:-0400
TZNAME:EDT
DTSTART:20240310T070000
END:DAYLIGHT
BEGIN:STANDARD
TZOFFSETFROM:-0400
TZOFFSETTO:-0500
TZNAME:EST
DTSTART:20241103T060000
END:STANDARD
END:VTIMEZONE
BEGIN:VEVENT
DTSTART;TZID=America/New_York:20240723T200000
DTEND;TZID=America/New_York:20240723T230000
DTSTAMP:20260422T053810
CREATED:20240401T181957Z
LAST-MODIFIED:20240507T173648Z
UID:10000551-1721764800-1721775600@theark.qltddev.com
SUMMARY:Shamarr Allen
DESCRIPTION:Hailing from the Lower 9th Ward of New Orleans\, Shamarr Allen has influences in jazz\, hip-hop\, rock\, funk rhythms\, blues and country. He is the lead vocalist and trumpeter of his band “Shamarr Allen & The Underdawgs.” In addition to performing with his band\, Allen has collaborated with many renowned artists around the world such as Willie Nelson\, Patti LaBelle\, Galatic\, Harrick Connick Jr\, and Lenny Kravitz\, to name a few. He is a sought after artist for festivals and venues around the world. In addition to displaying his skills on the front-line as a lead performer\, Allen is also a music composer\, writer\, and producer. With a scintillating and unique sound\, look\, and exemplary talents\, Shamarr Allen transcends musical boundaries. He is the True Orleans experience! \nThe Ark’s Artist Spotlight Series is made possible with support from Ford Philanthropy. It is presented live\, and also livestreamed on The Ark’s Facebook page.   \nTonight’s show is FREE (nonperishables accepted for Food Gatherers).
URL:https://theark.qltddev.com/event/shamarr-allen-240723/
LOCATION:The Ark\, 316 S. Main\, Ann Arbor\, MI\, 48104\, United States
CATEGORIES:Artist Spotlight Series,Live and Virtual
ATTACH;FMTTYPE=image/jpeg:https://theark.qltddev.com/wp-content/uploads/2024/04/shamarr_allen_200410_high_res-scaled-e1711995377518.jpg
END:VEVENT
END:VCALENDAR