BEGIN:VCALENDAR
VERSION:2.0
PRODID:-//The Ark - ECPv6.6.4.2//NONSGML v1.0//EN
CALSCALE:GREGORIAN
METHOD:PUBLISH
X-WR-CALNAME:The Ark
X-ORIGINAL-URL:https://theark.qltddev.com
X-WR-CALDESC:Events for The Ark
REFRESH-INTERVAL;VALUE=DURATION:PT1H
X-Robots-Tag:noindex
X-PUBLISHED-TTL:PT1H
BEGIN:VTIMEZONE
TZID:America/New_York
BEGIN:DAYLIGHT
TZOFFSETFROM:-0500
TZOFFSETTO:-0400
TZNAME:EDT
DTSTART:20250309T070000
END:DAYLIGHT
BEGIN:STANDARD
TZOFFSETFROM:-0400
TZOFFSETTO:-0500
TZNAME:EST
DTSTART:20251102T060000
END:STANDARD
END:VTIMEZONE
BEGIN:VEVENT
DTSTART;TZID=America/New_York:20250503T190000
DTEND;TZID=America/New_York:20250503T230000
DTSTAMP:20260422T185125
CREATED:20240612T171818Z
LAST-MODIFIED:20240612T171818Z
UID:10000634-1746298800-1746313200@theark.qltddev.com
SUMMARY:Jesse Cook
DESCRIPTION:For Jesse Cook\, music has been a journey. Sonically and literally. \n“Over the years\, I’ve taken my music and tried to cross-pollinate it with music from different parts of the world\,” explains the 50-year-old global-guitar virtuoso. “For the (2003) album Nomad\, I went to Cairo and recorded with musicians there. On my (2009) record The Rumba Foundation\, I went to Colombia\, and worked with musicians from Cuba as well. On (1998’s) Vertigo\, I went down to Lafayette\, La.\, and recorded with Buckwheat Zydeco. For me\, the question has always been: Where did you go? Where did you take your guitar?” \nThe short answer this time? Nowhere. And everywhere. After two decades of criss-crossing the world in restless pursuit of inspiration\, innovation and collaboration\, the Paris-born\, Toronto-raised Cook changed course for his ninth studio albumOne World\, out April\, 28th\, 2015 on eOne Music Canada. Instead of exotic locales\, he stayed home in his studio. Instead of a foreign legion of performers\, he relied on his own devices. And instead of exploring cul de sacs of music — flamenco\, classical\, rumba\, world beat\, pop\, blues or jazz — he united them. \n“On this record\, it’s not really about going someplace\,” he says of the album\, whose cover depicts a vast\, ancient tree. “The idea is that there really is just one world. If you pull your focus back far enough\, you start to see all music as being branches of the same tree. They’re all connected to the same trunk from way back. \n“For example\, my strange way of playing guitar is a hybrid of styles. I was a classical guitarist as a kid\, and I studied flamenco and then I studied jazz. So there are three musical and guitar traditions in my background. And one of the forms I use\, rumba flamenco\, is itself a hybrid created in the 1800s when sailors were coming back to Spain from Cuba\, having heard these Cuban rhythms. And here I am\, 150 years later\, taking it and mixing it back with modern music and seeing where it takes me. Music is a constantly evolving thing.” \nAs is Cook’s creative approach. Despite its humble home-made origins\, One World begins another chapter in the multi-tasking artist\, composer and producer’s quest. His destination: The digital realm. To create the disc’s emotive melodies\, fluid grooves and rich sonic tapestries\, he incorporated technology more than ever before. Give credit to his precocious young assistant. \n“I have two small children\, and my son is forever trying to get on my computer. If I’m in my studio\, he’ll come in and sit down and just start pushing buttons and making things happen in the recording program I use. At first I was terrified he would mess things up. But he actually got really good at poking around. I started going\, ‘Wow\, what’s that? What are you doing? Let me in there!’ I started writing tunes using weird loops and metallic and electronic sounds. And I found myself interested in taking what I do and putting it in a more modern context. I’ve leaned heavily on ancient instruments. But for this record\, I put those instruments side by side with modern sounds — unabashedly so.” \nWhat results is the most sonically diverse and distinctive disc in Cook’s vast and varied catalogue\, which has earned 11 Juno nominations and one win for 2000’s Free Fall. On these 11 instrumentals\, programmed beats and dusty electronic textures are interwoven with syncopated handclaps\, deep dubby basslines and popping percussion. Sitars and violin share the space with synthesizers and sound effects. Notes and rhythms dance playfully back and forth between speakers. Naturally\, Cook’s masterful guitar work commands centre stage with its elegant balance of subtlety\, in-the-moment honesty and blazing technical prowess. But here\, it also pivots between worlds — past and future\, familiar and fresh\, acoustic and electronic — redefined by technology like every element of modern life. \n“We’re all involved with our computers in a big way\, though we malign them\,” laughs Cook. “People complain social media is ruining communication and that people just text instead of call. But love and romance and imagination and art also happen through computers. People fall in love online. People talk to loved ones on Skype. People write great love letters on the computer\, create great works of art\, great compositions. It has become this integral part of human expression and I wanted to give it a voice in what I was doing.” \nAnd in doing so\, the artist who hadn’t planned to travel for this album found himself in the most exotic locale imaginable. \n“I wanted to make what I was doing feel like Constantinople\, the ancient city that existed between the East and the West. It was the meeting point of all these great cultures — Africa\, Europe\, Asia\, India. I want my music to be that place: The Constantinople of sound. A place where ancient sounds meet with modern ones and pass though that port.” \nThe journey continues.
URL:https://theark.qltddev.com/event/jesse-cook-250503/
LOCATION:Royal Oak Music Theatre\, 318 W 4th St\, Royal Oak\, MI\, 48067\, United States
CATEGORIES:Special Event
ATTACH;FMTTYPE=image/jpeg:https://theark.qltddev.com/wp-content/uploads/2024/06/JEESE-COOK33921-scaled-1.jpg
END:VEVENT
END:VCALENDAR